BEGIN:VCALENDAR
VERSION:2.0
PRODID:-//RIGHTHERE//CALENDARIZE IT V3.2//EN
BEGIN:VTIMEZONE
TZID:Europe/Madrid
BEGIN:STANDARD
DTSTART:20251026T010000
TZOFFSETFROM:+0200
TZOFFSETTO:+0100
TZNAME:CET
END:STANDARD
BEGIN:DAYLIGHT
DTSTART:20260329T010000
TZOFFSETFROM:+0100
TZOFFSETTO:+0200
TZNAME:CEST
END:DAYLIGHT
BEGIN:STANDARD
DTSTART:20261025T010000
TZOFFSETFROM:+0200
TZOFFSETTO:+0100
TZNAME:CET
END:STANDARD
END:VTIMEZONE
BEGIN:VEVENT
UID:10212-events@doshermanas.net
DTSTART;VALUE=DATE:20200226
DTEND;VALUE=DATE:20200226
DTSTAMP;TZID=Europe/Madrid:20200210T203107
SUMMARY:II Campeonato de Sevilla de Centros Escolares de Orientación
DESCRIPTION:Miércoles 26 de febrero en el Parque Forestal de la Dehesa de 
 Doña María.  Tiene la finalidad de promocionar este deporte entre nuestr
 os escolares y de participar en dicho Campeonato Andaluz. El formato elegi
 do ha sido de una jornada con una carrera de distancia media a celebrar en
 una jornada lectiva.
URL:https://doshermanas.net/actividades/ii-campeonato-de-sevilla-de-centros
 -escolares-de-orientacion/
ORGANIZER;CN=Delegación de Deportes:MAILTO:deportes@doshermanas.es
LOCATION:Parque Forestal Dehesa de Doña María
END:VEVENT
END:VCALENDAR