BEGIN:VCALENDAR
VERSION:2.0
PRODID:-//RIGHTHERE//CALENDARIZE IT V3.2//EN
BEGIN:VTIMEZONE
TZID:Europe/Madrid
BEGIN:STANDARD
DTSTART:20251026T010000
TZOFFSETFROM:+0200
TZOFFSETTO:+0100
TZNAME:CET
END:STANDARD
BEGIN:DAYLIGHT
DTSTART:20260329T010000
TZOFFSETFROM:+0100
TZOFFSETTO:+0200
TZNAME:CEST
END:DAYLIGHT
BEGIN:STANDARD
DTSTART:20261025T010000
TZOFFSETFROM:+0200
TZOFFSETTO:+0100
TZNAME:CET
END:STANDARD
END:VTIMEZONE
BEGIN:VEVENT
UID:10334-events@doshermanas.net
DTSTART;TZID=Europe/Madrid:20200220T110400
DTEND;TZID=Europe/Madrid:20200220T111500
DTSTAMP;TZID=Europe/Madrid:20200218T175016
SUMMARY:Vuelta Ciclista a Andalucía 2020 – 2ª Etapa
DESCRIPTION:Jueves 20 de febrero de 2020\, salida real en A-8032 a las 11:0
 0 horas\, sobre las 11:04 horas se espera su llegada a la Avda. de la Libe
 rtad\, continuando por Calle Gabriel Miró\, Avda. Adolfo Suárez (11:05h)
 \, Ctra. Dos Hermanas - Montequinto (11:08h)\, Ctra. Alcalá Dos Hermanas 
 A-392 (11:11h).
URL:https://doshermanas.net/actividades/vuelta-ciclista-a-andalucia-2020-2a
 -etapa/
END:VEVENT
END:VCALENDAR