BEGIN:VCALENDAR
VERSION:2.0
PRODID:-//RIGHTHERE//CALENDARIZE IT V3.2//EN
BEGIN:VTIMEZONE
TZID:Europe/Madrid
BEGIN:STANDARD
DTSTART:20251026T010000
TZOFFSETFROM:+0200
TZOFFSETTO:+0100
TZNAME:CET
END:STANDARD
BEGIN:DAYLIGHT
DTSTART:20260329T010000
TZOFFSETFROM:+0100
TZOFFSETTO:+0200
TZNAME:CEST
END:DAYLIGHT
BEGIN:STANDARD
DTSTART:20261025T010000
TZOFFSETFROM:+0200
TZOFFSETTO:+0100
TZNAME:CET
END:STANDARD
END:VTIMEZONE
BEGIN:VEVENT
UID:10359-events@doshermanas.net
DTSTART;TZID=Europe/Madrid:20200322T100000
DTEND;TZID=Europe/Madrid:20200322T140000
DTSTAMP;TZID=Europe/Madrid:20200221T130522
SUMMARY:APLAZADO – I Encuentro de primavera de Deporte Inclusivo
DESCRIPTION:APLAZADO - Domingo 22 de marzo de 2020 en C.D.M. Ramón y Cajal
 de 10:00 a 14:00 horas\, I Encuentro de primavera de Deporte Inclusivo.
URL:https://doshermanas.net/actividades/i-encuentro-de-primavera-de-deporte
 -inclusivo/
LOCATION:Calle Tirso de Molina\, s/n
END:VEVENT
END:VCALENDAR