BEGIN:VCALENDAR
VERSION:2.0
PRODID:-//RIGHTHERE//CALENDARIZE IT V3.2//EN
BEGIN:VTIMEZONE
TZID:Europe/Madrid
BEGIN:STANDARD
DTSTART:20251026T010000
TZOFFSETFROM:+0200
TZOFFSETTO:+0100
TZNAME:CET
END:STANDARD
BEGIN:DAYLIGHT
DTSTART:20260329T010000
TZOFFSETFROM:+0100
TZOFFSETTO:+0200
TZNAME:CEST
END:DAYLIGHT
BEGIN:STANDARD
DTSTART:20261025T010000
TZOFFSETFROM:+0200
TZOFFSETTO:+0100
TZNAME:CET
END:STANDARD
END:VTIMEZONE
BEGIN:VEVENT
UID:10937-events@doshermanas.net
DTSTART;VALUE=DATE:20200601
DTEND;VALUE=DATE:20200626
DTSTAMP;TZID=Europe/Madrid:20200416T114644
SUMMARY:La aplicaciÃ³n Fitbe se pone en marcha para reforzar la campaÃ±a â€
 ˜Mantente Activ@ en Casaâ€™
DESCRIPTION:Sus mÃºltiples funcionalidades y beneficios para los usuarios\,
 motivos para su elecciÃ³n para la ciudadanÃ­a nazarena por parte de la Del
 egaciÃ³n de Deportes del Ayuntamiento de Dos Hermanas.
URL:https://doshermanas.net/actividades/la-aplicacion-fitbe-se-pone-en-marc
 ha-para-reforzar-la-campana-mantente-activ-en-casa/
END:VEVENT
END:VCALENDAR