BEGIN:VCALENDAR
VERSION:2.0
PRODID:-//RIGHTHERE//CALENDARIZE IT V3.2//EN
BEGIN:VTIMEZONE
TZID:Europe/Madrid
BEGIN:STANDARD
DTSTART:20251026T010000
TZOFFSETFROM:+0200
TZOFFSETTO:+0100
TZNAME:CET
END:STANDARD
BEGIN:DAYLIGHT
DTSTART:20260329T010000
TZOFFSETFROM:+0100
TZOFFSETTO:+0200
TZNAME:CEST
END:DAYLIGHT
BEGIN:STANDARD
DTSTART:20261025T010000
TZOFFSETFROM:+0200
TZOFFSETTO:+0100
TZNAME:CET
END:STANDARD
END:VTIMEZONE
BEGIN:VEVENT
UID:11347-events@doshermanas.net
DTSTART;TZID=Europe/Madrid:20200523T103000
DTEND;TZID=Europe/Madrid:20200523T123000
DTSTAMP;TZID=Europe/Madrid:20200515T204151
SUMMARY:Juegos Deportivos Municipales “Desde Casa”
DESCRIPTION:Sábado 23 de Mayo de 2020 a partir de las 10:30. Este evento n
 o es presencial se celebrará a través del canal de Facebook Live Deporte
 s Dos Hermanas.
URL:https://doshermanas.net/actividades/juegos-deportivos-municipales-desde
 -casa/
ORGANIZER;CN=Delegación de Deportes:MAILTO:deportes@doshermanas.es
LOCATION:Facebook Live
END:VEVENT
END:VCALENDAR