BEGIN:VCALENDAR
VERSION:2.0
PRODID:-//RIGHTHERE//CALENDARIZE IT V3.2//EN
BEGIN:VTIMEZONE
TZID:Europe/Madrid
BEGIN:STANDARD
DTSTART:20251026T010000
TZOFFSETFROM:+0200
TZOFFSETTO:+0100
TZNAME:CET
END:STANDARD
BEGIN:DAYLIGHT
DTSTART:20260329T010000
TZOFFSETFROM:+0100
TZOFFSETTO:+0200
TZNAME:CEST
END:DAYLIGHT
BEGIN:STANDARD
DTSTART:20261025T010000
TZOFFSETFROM:+0200
TZOFFSETTO:+0100
TZNAME:CET
END:STANDARD
END:VTIMEZONE
BEGIN:VEVENT
UID:11410-events@doshermanas.net
DTSTART;TZID=Europe/Madrid:20200530T110000
DTEND;TZID=Europe/Madrid:20200530T140000
DTSTAMP;TZID=Europe/Madrid:20200526T174407
SUMMARY:XXXII Torneo Internacional de Ajedrez  Ciudad de Dos Hermanas On Li
 ne “Todo Va a Salir Bien”
DESCRIPTION:Sábado 30 de mayo de 2020 de 11:00 a 14:00 horas en la platafo
 rma on-line Lichess. Este evento también será retransmitido en directo e
 n Facebook Live de la Delegación de Deportes.
URL:https://doshermanas.net/actividades/xxxii-torneo-internacional-de-ajedr
 ez-ciudad-de-dos-hermanas-on-line-todo-va-a-salir-bien/
ORGANIZER;CN=Delegación de Deportes:MAILTO:deportes@doshermanas.es
LOCATION:Facebook Live
END:VEVENT
END:VCALENDAR