BEGIN:VCALENDAR
VERSION:2.0
PRODID:-//RIGHTHERE//CALENDARIZE IT V3.2//EN
BEGIN:VTIMEZONE
TZID:Europe/Madrid
BEGIN:STANDARD
DTSTART:20251026T010000
TZOFFSETFROM:+0200
TZOFFSETTO:+0100
TZNAME:CET
END:STANDARD
BEGIN:DAYLIGHT
DTSTART:20260329T010000
TZOFFSETFROM:+0100
TZOFFSETTO:+0200
TZNAME:CEST
END:DAYLIGHT
BEGIN:STANDARD
DTSTART:20261025T010000
TZOFFSETFROM:+0200
TZOFFSETTO:+0100
TZNAME:CET
END:STANDARD
END:VTIMEZONE
BEGIN:VEVENT
UID:12584-events@doshermanas.net
DTSTART;VALUE=DATE:20201115
DTEND;VALUE=DATE:20201115
DTSTAMP;TZID=Europe/Madrid:20201105T142711
SUMMARY:Clásica de Santa Ana 2020
DESCRIPTION:Domingo 15 de noviembre en el Bulevar Felipe González Márquez
 . Salida 9:00 horas. 250 participantes. Categorías: Master 60 Fem.\, Mast
 er 60\, Master 50 Fem.\, Master 50\, Master 40 Fem.\, Master 40\, Master 3
 0 Fem.\, Master 30\, Sub-23 Fem.\, Sub-23\, Junior Fem.\, Junior\, Elite F
 em.\, Elite.
URL:https://doshermanas.net/actividades/clasica-de-santa-ana-2020/
ORGANIZER;CN=Peña Ciclista Dos Hermanas Gómez del Moral:MAILTO:pciclistad
 h@hotmail.com
LOCATION:Av. Felipe González Márquez\, 41704 Dos Hermanas\, Sevilla
END:VEVENT
END:VCALENDAR