BEGIN:VCALENDAR
VERSION:2.0
PRODID:-//RIGHTHERE//CALENDARIZE IT V3.2//EN
BEGIN:VTIMEZONE
TZID:Europe/Madrid
BEGIN:STANDARD
DTSTART:20251026T010000
TZOFFSETFROM:+0200
TZOFFSETTO:+0100
TZNAME:CET
END:STANDARD
BEGIN:DAYLIGHT
DTSTART:20260329T010000
TZOFFSETFROM:+0100
TZOFFSETTO:+0200
TZNAME:CEST
END:DAYLIGHT
BEGIN:STANDARD
DTSTART:20261025T010000
TZOFFSETFROM:+0200
TZOFFSETTO:+0100
TZNAME:CET
END:STANDARD
END:VTIMEZONE
BEGIN:VEVENT
UID:12847-events@doshermanas.net
DTSTART;VALUE=DATE:20201215
DTEND;VALUE=DATE:20201215
DTSTAMP;TZID=Europe/Madrid:20201202T121804
SUMMARY:Deporte Solidario Dos Hermanas Juega Limpio “Por un Juguete”
DESCRIPTION:Jornada para recaudar juguetes nuevos para los niños y niñas 
 más necesitados de esta ciudad y que serán entregados a Cruz Roja Españ
 ola para su distribución. Para poder cumplir con los plazos y protocolos 
 COVID establecidos\, la fecha tope para recibir juguetes será el 15 de Di
 ciembre.
URL:https://doshermanas.net/actividades/deporte-solidario-dos-hermanas-jueg
 a-limpio-por-un-juguete/
ORGANIZER;CN=Delegación de Deportes:MAILTO:deportes@doshermanas.es
LOCATION:Calle Arona\, s/n. (Bda. de Montequinto)\, 41089 Dos Hermanas\, Se
 villa
END:VEVENT
END:VCALENDAR