BEGIN:VCALENDAR
VERSION:2.0
PRODID:-//RIGHTHERE//CALENDARIZE IT V3.2//EN
BEGIN:VTIMEZONE
TZID:Europe/Madrid
BEGIN:STANDARD
DTSTART:20251026T010000
TZOFFSETFROM:+0200
TZOFFSETTO:+0100
TZNAME:CET
END:STANDARD
BEGIN:DAYLIGHT
DTSTART:20260329T010000
TZOFFSETFROM:+0100
TZOFFSETTO:+0200
TZNAME:CEST
END:DAYLIGHT
BEGIN:STANDARD
DTSTART:20261025T010000
TZOFFSETFROM:+0200
TZOFFSETTO:+0100
TZNAME:CET
END:STANDARD
END:VTIMEZONE
BEGIN:VEVENT
UID:14240-events@doshermanas.net
DTSTART;VALUE=DATE:20210701
DTEND;VALUE=DATE:20210831
DTSTAMP;TZID=Europe/Madrid:20210614T180740
SUMMARY:Campus de Verano 2021
DESCRIPTION:Los Campus de Verano de la Delegación de Deportes se desarroll
 arán para niños y niñas de 5 a 14 años durante los meses de julio y ag
 osto de 2021\, divididos en quincenas y semanas. Se establecen dos sedes p
 ara los Campus: C.D.M. Montequinto y Palacio de los Deportes. El precio po
 r alumno/a y quincena será de 65\,00 euros (ver descuentos).
URL:https://doshermanas.net/actividades/campus-de-verano-2021/
ORGANIZER;CN=Delegación de Deportes:MAILTO:deportes@doshermanas.es
END:VEVENT
END:VCALENDAR