BEGIN:VCALENDAR
VERSION:2.0
PRODID:-//RIGHTHERE//CALENDARIZE IT V3.2//EN
BEGIN:VTIMEZONE
TZID:Europe/Madrid
BEGIN:STANDARD
DTSTART:20251026T010000
TZOFFSETFROM:+0200
TZOFFSETTO:+0100
TZNAME:CET
END:STANDARD
BEGIN:DAYLIGHT
DTSTART:20260329T010000
TZOFFSETFROM:+0100
TZOFFSETTO:+0200
TZNAME:CEST
END:DAYLIGHT
BEGIN:STANDARD
DTSTART:20261025T010000
TZOFFSETFROM:+0200
TZOFFSETTO:+0100
TZNAME:CET
END:STANDARD
END:VTIMEZONE
BEGIN:VEVENT
UID:14308-events@doshermanas.net
DTSTART;VALUE=DATE:20210801
DTEND;VALUE=DATE:20210824
DTSTAMP;TZID=Europe/Madrid:20210617T212801
SUMMARY:Cursos de Natación Verano 2021
DESCRIPTION:Actividades Ofertadas para Agosto: Cursos Iniciación Menores\,
 Escuela Natación Menores\, Cursos Iniciación Personas Adultas\, Natació
 n con acompañamiento y Natación Libre (a partir de 14 años). La inscrip
 ción será mensual y NO garantizará conservar la plaza para el mes sigui
 ente. Todas las plazas ofertadas se distribuirán al 50 % de forma presenc
 ial y on line (oficina electrónica). 13 Julio. 50 % de las plazas y 14 Ju
 lio.  50% de las plazas ofertadas en modo presencial.
URL:https://doshermanas.net/actividades/cursos-de-natacion-verano-2021/
ORGANIZER;CN=Delegación de Deportes:MAILTO:deportes@doshermanas.es
LOCATION:Calle Taormina\, s/n (Bda. Montequinto)\, 41089 Dos Hermanas\, Sev
 illa
END:VEVENT
END:VCALENDAR