BEGIN:VCALENDAR
VERSION:2.0
PRODID:-//RIGHTHERE//CALENDARIZE IT V3.2//EN
BEGIN:VTIMEZONE
TZID:Europe/Madrid
BEGIN:STANDARD
DTSTART:20251026T010000
TZOFFSETFROM:+0200
TZOFFSETTO:+0100
TZNAME:CET
END:STANDARD
BEGIN:DAYLIGHT
DTSTART:20260329T010000
TZOFFSETFROM:+0100
TZOFFSETTO:+0200
TZNAME:CEST
END:DAYLIGHT
BEGIN:STANDARD
DTSTART:20261025T010000
TZOFFSETFROM:+0200
TZOFFSETTO:+0100
TZNAME:CET
END:STANDARD
END:VTIMEZONE
BEGIN:VEVENT
UID:15053-events@doshermanas.net
DTSTART;VALUE=DATE:20210910
DTEND;VALUE=DATE:20211001
DTSTAMP;TZID=Europe/Madrid:20210910T121600
SUMMARY:Programa Actividades Acuáticas
DESCRIPTION:Actividades a partir de 6 años (a 31 diciembre 2021)\, progres
 ivamente se irán incluyendo actividades para menores de 6 años\, así co
 mo el programa completo de Natación y Salud (inicio 2 de noviembre)\, sie
 mpre que la evolución de la pandemia lo permita.
URL:https://doshermanas.net/actividades/programa-actividades-acuaticas-2021
 -2022/
ORGANIZER;CN=Delegación de Deportes:MAILTO:deportes@doshermanas.es
LOCATION:Calle Arona\, s/n. (Bda. de Montequinto)\, 41089 Dos Hermanas\, Se
 villa
END:VEVENT
END:VCALENDAR