BEGIN:VCALENDAR
VERSION:2.0
PRODID:-//RIGHTHERE//CALENDARIZE IT V3.2//EN
BEGIN:VTIMEZONE
TZID:Europe/Madrid
BEGIN:STANDARD
DTSTART:20251026T010000
TZOFFSETFROM:+0200
TZOFFSETTO:+0100
TZNAME:CET
END:STANDARD
BEGIN:DAYLIGHT
DTSTART:20260329T010000
TZOFFSETFROM:+0100
TZOFFSETTO:+0200
TZNAME:CEST
END:DAYLIGHT
BEGIN:STANDARD
DTSTART:20261025T010000
TZOFFSETFROM:+0200
TZOFFSETTO:+0100
TZNAME:CET
END:STANDARD
END:VTIMEZONE
BEGIN:VEVENT
UID:16706-events@doshermanas.net
DTSTART;VALUE=DATE:20220330
DTEND;VALUE=DATE:20220330
DTSTAMP;TZID=Europe/Madrid:20220214T131839
SUMMARY:Ajedrez en la Escuela 2022
DESCRIPTION:Desde la Delegación de Deportes para este año 2022 seguimos a
 postando por fomentar la promoción deportiva del ajedrez dentro de nuestr
 a planificación. Destinatarios/as: Alumnado de centros de enseñanza de p
 rimeria y secundaria de Dos Hermanas.
URL:https://doshermanas.net/actividades/ajedrez-en-la-escuela-2022/
END:VEVENT
END:VCALENDAR