BEGIN:VCALENDAR
VERSION:2.0
PRODID:-//RIGHTHERE//CALENDARIZE IT V3.2//EN
BEGIN:VTIMEZONE
TZID:Europe/Madrid
BEGIN:STANDARD
DTSTART:20251026T010000
TZOFFSETFROM:+0200
TZOFFSETTO:+0100
TZNAME:CET
END:STANDARD
BEGIN:DAYLIGHT
DTSTART:20260329T010000
TZOFFSETFROM:+0100
TZOFFSETTO:+0200
TZNAME:CEST
END:DAYLIGHT
BEGIN:STANDARD
DTSTART:20261025T010000
TZOFFSETFROM:+0200
TZOFFSETTO:+0100
TZNAME:CET
END:STANDARD
END:VTIMEZONE
BEGIN:VEVENT
UID:17259-events@doshermanas.net
DTSTART;TZID=Europe/Madrid:20220406T100000
DTEND;TZID=Europe/Madrid:20220406T130000
DTSTAMP;TZID=Europe/Madrid:20220404T170237
SUMMARY:Jornada Activa para Mayores
DESCRIPTION:Miércoles 6 de abril Día Mundial de la actividad física\, de
 10:00 a 13:00 horas en el Parque Municipal La Alquería. Con la participac
 ión de los grupos de las Escuelas Deportivas Municipales.
URL:https://doshermanas.net/actividades/jornada-activa-para-mayores/
END:VEVENT
END:VCALENDAR