BEGIN:VCALENDAR
VERSION:2.0
PRODID:-//RIGHTHERE//CALENDARIZE IT V3.2//EN
BEGIN:VTIMEZONE
TZID:Europe/Madrid
BEGIN:STANDARD
DTSTART:20251026T010000
TZOFFSETFROM:+0200
TZOFFSETTO:+0100
TZNAME:CET
END:STANDARD
BEGIN:DAYLIGHT
DTSTART:20260329T010000
TZOFFSETFROM:+0100
TZOFFSETTO:+0200
TZNAME:CEST
END:DAYLIGHT
BEGIN:STANDARD
DTSTART:20261025T010000
TZOFFSETFROM:+0200
TZOFFSETTO:+0100
TZNAME:CET
END:STANDARD
END:VTIMEZONE
BEGIN:VEVENT
UID:17316-events@doshermanas.net
DTSTART;TZID=Europe/Madrid:20220424T093000
DTEND;TZID=Europe/Madrid:20220424T140000
DTSTAMP;TZID=Europe/Madrid:20220408T111231
SUMMARY:VI Ruta Senderismo en Familia
DESCRIPTION:El 24 de Abril La Delegación de Deportes del Ayuntamiento de D
 os Hermanas en colaboración con el Club de Senderismo Señal y Camino org
 anizará la VI Ruta de Senderismo “Familia y Naturaleza”. Un paseo de 
 unos 4 km en un escenario privilegiado para los amantes de la naturaleza. 
 Inscripciones a partir del día 18 de abril de 2022.
URL:https://doshermanas.net/actividades/vi-ruta-senderismo-en-familia/
LOCATION:La Laguna de Fuente del Rey
END:VEVENT
END:VCALENDAR