BEGIN:VCALENDAR
VERSION:2.0
PRODID:-//RIGHTHERE//CALENDARIZE IT V3.2//EN
BEGIN:VTIMEZONE
TZID:Europe/Madrid
BEGIN:STANDARD
DTSTART:20251026T010000
TZOFFSETFROM:+0200
TZOFFSETTO:+0100
TZNAME:CET
END:STANDARD
BEGIN:DAYLIGHT
DTSTART:20260329T010000
TZOFFSETFROM:+0100
TZOFFSETTO:+0200
TZNAME:CEST
END:DAYLIGHT
BEGIN:STANDARD
DTSTART:20261025T010000
TZOFFSETFROM:+0200
TZOFFSETTO:+0100
TZNAME:CET
END:STANDARD
END:VTIMEZONE
BEGIN:VEVENT
UID:18172-events@doshermanas.net
DTSTART;TZID=Europe/Madrid:20220527T173000
DTEND;TZID=Europe/Madrid:20220527T200000
DTSTAMP;TZID=Europe/Madrid:20220518T114441
SUMMARY:Clausura Juegos Deportivos Municipales
DESCRIPTION:El próximo 27 de Mayo a partir de las 17:30 h. en el Palacio d
 e los Deportes\, la Delegación de Deportes organizará una gran fiesta co
 mo clausura y se harán e entrega de los trofeos a los primeros clasificad
 os\, de las diferentes categorías y modalidades deportivas\, así como ob
 sequios a todos los/as participantes.
URL:https://doshermanas.net/actividades/clausura-juegos-deportivos-municipa
 les/
END:VEVENT
END:VCALENDAR