BEGIN:VCALENDAR
VERSION:2.0
PRODID:-//RIGHTHERE//CALENDARIZE IT V3.2//EN
BEGIN:VTIMEZONE
TZID:Europe/Madrid
BEGIN:STANDARD
DTSTART:20251026T010000
TZOFFSETFROM:+0200
TZOFFSETTO:+0100
TZNAME:CET
END:STANDARD
BEGIN:DAYLIGHT
DTSTART:20260329T010000
TZOFFSETFROM:+0100
TZOFFSETTO:+0200
TZNAME:CEST
END:DAYLIGHT
BEGIN:STANDARD
DTSTART:20261025T010000
TZOFFSETFROM:+0200
TZOFFSETTO:+0100
TZNAME:CET
END:STANDARD
END:VTIMEZONE
BEGIN:VEVENT
UID:18185-events@doshermanas.net
DTSTART;VALUE=DATE:20220524
DTEND;VALUE=DATE:20220527
DTSTAMP;TZID=Europe/Madrid:20220518T131154
SUMMARY:XIV Fiesta del Ajedrez
DESCRIPTION:Participantes: Centros de Enseñanza que lo soliciten\, para al
 umnos/as de 2º y 3º ciclo de primaria y secundaria. En el Palacio de los
 Deportes de Dos Hermanas. Martes 24 de mayo (10:00 horas): Campeonato Banj
 amín. Miércoles 25 de mayo (10:00 horas): Campeonato Alevín. Jueves 26 
 de mayo (10:00 horas): Campeonato Infantil y cadete.
URL:https://doshermanas.net/actividades/xiv-fiesta-del-ajedrez/
ORGANIZER;CN=Delegación de Deportes:MAILTO:deportes@doshermanas.es
END:VEVENT
END:VCALENDAR