BEGIN:VCALENDAR
VERSION:2.0
PRODID:-//RIGHTHERE//CALENDARIZE IT V3.2//EN
BEGIN:VTIMEZONE
TZID:Europe/Madrid
BEGIN:STANDARD
DTSTART:20251026T010000
TZOFFSETFROM:+0200
TZOFFSETTO:+0100
TZNAME:CET
END:STANDARD
BEGIN:DAYLIGHT
DTSTART:20260329T010000
TZOFFSETFROM:+0100
TZOFFSETTO:+0200
TZNAME:CEST
END:DAYLIGHT
BEGIN:STANDARD
DTSTART:20261025T010000
TZOFFSETFROM:+0200
TZOFFSETTO:+0100
TZNAME:CET
END:STANDARD
END:VTIMEZONE
BEGIN:VEVENT
UID:18495-events@doshermanas.net
DTSTART;TZID=Europe/Madrid:20220607T200000
DTEND;TZID=Europe/Madrid:20220607T213000
DTSTAMP;TZID=Europe/Madrid:20220606T171034
SUMMARY:Clausura y entrega de trofeos 42º Liga Local de Fútbol Sala
DESCRIPTION:El próximo martes 7 de junio a las 20:30 h.\, se realizará en
 el salón de actos del Centro Cultural La Almona\, la clausura y entrega d
 e trofeos de la 42º Liga Local de Fútbol Sala.
URL:https://doshermanas.net/actividades/clausura-y-entrega-de-trofeos-42o-l
 iga-local-de-futbol-sala/
ORGANIZER;CN=Delegación de Deportes:MAILTO:deportes@doshermanas.es
LOCATION:Calle la Mina\, 3\, 41701 Dos Hermanas\, Sevilla
END:VEVENT
END:VCALENDAR