BEGIN:VCALENDAR
VERSION:2.0
PRODID:-//RIGHTHERE//CALENDARIZE IT V3.2//EN
BEGIN:VTIMEZONE
TZID:Europe/Madrid
BEGIN:STANDARD
DTSTART:20251026T010000
TZOFFSETFROM:+0200
TZOFFSETTO:+0100
TZNAME:CET
END:STANDARD
BEGIN:DAYLIGHT
DTSTART:20260329T010000
TZOFFSETFROM:+0100
TZOFFSETTO:+0200
TZNAME:CEST
END:DAYLIGHT
BEGIN:STANDARD
DTSTART:20261025T010000
TZOFFSETFROM:+0200
TZOFFSETTO:+0100
TZNAME:CET
END:STANDARD
END:VTIMEZONE
BEGIN:VEVENT
UID:18559-events@doshermanas.net
DTSTART;VALUE=DATE:20220624
DTEND;VALUE=DATE:20220901
DTSTAMP;TZID=Europe/Madrid:20220609T191543
SUMMARY:Cursos de Natación Verano 2022
DESCRIPTION:Actividades ofertadas para julio y agosto: cursos iniciación p
 eques. Cursos de natación menores\, personas jóvenes\, personas adultas\
 , personas mayores. Natación con acompañamiento. Natación Libre (a part
 ir de 14 años). La inscripción será mensual y NO garantizará conservar
 la plaza para el mes siguiente. Todas las plazas ofertadas se distribuirá
 n al 50 % de forma presencial y online (oficina electrónica).
URL:https://doshermanas.net/actividades/cursos-de-natacion-verano-2022/
ORGANIZER;CN=Delegación de Deportes:MAILTO:deportes@doshermanas.es
LOCATION:Calle Taormina\, s/n (Bda. Montequinto)\, 41089 Dos Hermanas\, Sev
 illa
END:VEVENT
END:VCALENDAR