BEGIN:VCALENDAR
VERSION:2.0
PRODID:-//RIGHTHERE//CALENDARIZE IT V3.2//EN
BEGIN:VTIMEZONE
TZID:Europe/Madrid
BEGIN:STANDARD
DTSTART:20251026T010000
TZOFFSETFROM:+0200
TZOFFSETTO:+0100
TZNAME:CET
END:STANDARD
BEGIN:DAYLIGHT
DTSTART:20260329T010000
TZOFFSETFROM:+0100
TZOFFSETTO:+0200
TZNAME:CEST
END:DAYLIGHT
BEGIN:STANDARD
DTSTART:20261025T010000
TZOFFSETFROM:+0200
TZOFFSETTO:+0100
TZNAME:CET
END:STANDARD
END:VTIMEZONE
BEGIN:VEVENT
UID:18853-events@doshermanas.net
DTSTART;VALUE=DATE:20220624
DTEND;VALUE=DATE:20220627
DTSTAMP;TZID=Europe/Madrid:20220624T174554
SUMMARY:XXXVI Campeonato de Andalucía alevín de verano de natación
DESCRIPTION:Retransmisión en vivo del Campeonato de Andalucía Alevín de 
 Verano Dos Hermanas 2022. Del 24 al 26 de junio en el Complejo Deportivo M
 unicipal Los Montecillos. Horario de mañana y tarde.
URL:https://doshermanas.net/actividades/xxxvi-campeonato-de-andalucia-alevi
 n-de-verano-de-natacion/
ORGANIZER;CN=FAN - Federación Andaluza de Natación:MAILTO:fan@fan.es
END:VEVENT
END:VCALENDAR