BEGIN:VCALENDAR
VERSION:2.0
PRODID:-//RIGHTHERE//CALENDARIZE IT V3.2//EN
BEGIN:VTIMEZONE
TZID:Europe/Madrid
BEGIN:STANDARD
DTSTART:20251026T010000
TZOFFSETFROM:+0200
TZOFFSETTO:+0100
TZNAME:CET
END:STANDARD
BEGIN:DAYLIGHT
DTSTART:20260329T010000
TZOFFSETFROM:+0100
TZOFFSETTO:+0200
TZNAME:CEST
END:DAYLIGHT
BEGIN:STANDARD
DTSTART:20261025T010000
TZOFFSETFROM:+0200
TZOFFSETTO:+0100
TZNAME:CET
END:STANDARD
END:VTIMEZONE
BEGIN:VEVENT
UID:20137-events@doshermanas.net
DTSTART;TZID=Europe/Madrid:20221009T110000
DTEND;TZID=Europe/Madrid:20221009T140000
DTSTAMP;TZID=Europe/Madrid:20220915T105908
SUMMARY:Día de la Rueda de Montequinto 2022
DESCRIPTION:La Delegación de Deportes del Ayuntamiento de Dos Hermanas inv
 ita a toda la ciudadanía a participar en un bonito y tranquilo paseo por 
 las calles de nuestra ciudad el próximo domingo 9 de Octubre\, contribuye
 ndo con dicha actividad a fomentar el uso de la bicicleta y otros medios d
 e desplazamiento sobre ruedas que no posean motor eléctrico y promoviendo
 la práctica de la actividad física saludable\, la movilidad y el transpo
 rte activo y sostenible.
URL:https://doshermanas.net/actividades/dia-de-la-rueda-de-montequinto-2022
 /
ORGANIZER;CN=Delegación de Deportes:MAILTO:deportes@doshermanas.es
END:VEVENT
END:VCALENDAR