BEGIN:VCALENDAR
VERSION:2.0
PRODID:-//RIGHTHERE//CALENDARIZE IT V3.2//EN
BEGIN:VTIMEZONE
TZID:Europe/Madrid
BEGIN:STANDARD
DTSTART:20251026T010000
TZOFFSETFROM:+0200
TZOFFSETTO:+0100
TZNAME:CET
END:STANDARD
BEGIN:DAYLIGHT
DTSTART:20260329T010000
TZOFFSETFROM:+0100
TZOFFSETTO:+0200
TZNAME:CEST
END:DAYLIGHT
BEGIN:STANDARD
DTSTART:20261025T010000
TZOFFSETFROM:+0200
TZOFFSETTO:+0100
TZNAME:CET
END:STANDARD
END:VTIMEZONE
BEGIN:VEVENT
UID:21213-events@doshermanas.net
DTSTART;VALUE=DATE:20230104
DTEND;VALUE=DATE:20230104
DTSTAMP;TZID=Europe/Madrid:20221216T212353
SUMMARY:Deporte Solidario ¡Por un Juguete!
DESCRIPTION:Puntos de entrega: en tu Escuela Deportiva. Solo juguetes nuevo
 s. Para que ningún niño o niña se quede sin regalo estas fiestas\, acud
 e a tu actividad y lleva un juguete nuevo.  Karate: jueves 22 de diciembr
 e 17:00-20:00 h. en el Pabellón de los Montecillos. Gimnasia rítmica: mi
 ércoles 21 diciembre  de 16:30-20:00 h. en el Palacio de los Deportes. V
 oleibol: miércoles 21 diciembre en el Pabellón de los Montecillos. Pade
 l: miércoles 21 y jueves 22 diciembre 9:00-12:00 y 17:00-23:00 h. en Pala
 cio de Deportes y CMAD.
URL:https://doshermanas.net/actividades/deporte-solidario-por-un-juguete/
ORGANIZER;CN=Delegación de Deportes:MAILTO:deportes@doshermanas.es
END:VEVENT
END:VCALENDAR