BEGIN:VCALENDAR
VERSION:2.0
PRODID:-//RIGHTHERE//CALENDARIZE IT V3.2//EN
BEGIN:VTIMEZONE
TZID:Europe/Madrid
BEGIN:STANDARD
DTSTART:20251026T010000
TZOFFSETFROM:+0200
TZOFFSETTO:+0100
TZNAME:CET
END:STANDARD
BEGIN:DAYLIGHT
DTSTART:20260329T010000
TZOFFSETFROM:+0100
TZOFFSETTO:+0200
TZNAME:CEST
END:DAYLIGHT
BEGIN:STANDARD
DTSTART:20261025T010000
TZOFFSETFROM:+0200
TZOFFSETTO:+0100
TZNAME:CET
END:STANDARD
END:VTIMEZONE
BEGIN:VEVENT
UID:21361-events@doshermanas.net
DTSTART;TZID=Europe/Madrid:20230126T193000
DTEND;TZID=Europe/Madrid:20230126T000000
DTSTAMP;TZID=Europe/Madrid:20230117T183449
SUMMARY:Clausura y Entrega de Trofeos II Circuito Municipal de Carreras “
 Vive tu Parque” 2022
DESCRIPTION:Se llevará a cabo el próximo 26 de Enero a las 19:30 h. en el
 Centro Cultural la Almona. Los premios no son acumulativos. En la clausura
 se entregarán trofeos a los tres primeros en cada categoría (general y l
 ocal). Todas las personas participantes que finalicen las 4 carreras recib
 irán: camiseta\, sudadera y medalla.
URL:https://doshermanas.net/actividades/clausura-y-entrega-de-trofeos-ii-ci
 rcuito-municipal-de-carreras-vive-tu-parque-2022/
ORGANIZER;CN=Delegación de Deportes:MAILTO:deportes@doshermanas.es
LOCATION:Calle la Mina\, 3\, 41701 Dos Hermanas\, Sevilla
END:VEVENT
END:VCALENDAR