BEGIN:VCALENDAR
VERSION:2.0
PRODID:-//RIGHTHERE//CALENDARIZE IT V3.2//EN
BEGIN:VTIMEZONE
TZID:Europe/Madrid
BEGIN:STANDARD
DTSTART:20251026T010000
TZOFFSETFROM:+0200
TZOFFSETTO:+0100
TZNAME:CET
END:STANDARD
BEGIN:DAYLIGHT
DTSTART:20260329T010000
TZOFFSETFROM:+0100
TZOFFSETTO:+0200
TZNAME:CEST
END:DAYLIGHT
BEGIN:STANDARD
DTSTART:20261025T010000
TZOFFSETFROM:+0200
TZOFFSETTO:+0100
TZNAME:CET
END:STANDARD
END:VTIMEZONE
BEGIN:VEVENT
UID:22492-events@doshermanas.net
DTSTART;TZID=Europe/Madrid:20230525T173000
DTEND;TZID=Europe/Madrid:20230525T193000
DTSTAMP;TZID=Europe/Madrid:20230522T155928
SUMMARY:Clausura Escuelas y Juegos Deportivos Municipales
DESCRIPTION:Jueves 25 de mayo a partir de las 17:30 horas en el Palacio Mun
 icipal de Deportes. En los Juegos Deportivos Municipales de Dos Hermanas e
 stán participando equipos de centros escolares\, clubes y asociaciones de
 la localidad\, superando en total los más de 2.500 participantes.
URL:https://doshermanas.net/actividades/clausura-escuelas-y-juegos-deportiv
 os-municipales/
ORGANIZER;CN=Delegación de Deportes:MAILTO:deportes@doshermanas.es
LOCATION:Calle Meñaca\, s/n
END:VEVENT
END:VCALENDAR