BEGIN:VCALENDAR
VERSION:2.0
PRODID:-//RIGHTHERE//CALENDARIZE IT V3.2//EN
BEGIN:VTIMEZONE
TZID:Europe/Madrid
BEGIN:STANDARD
DTSTART:20251026T010000
TZOFFSETFROM:+0200
TZOFFSETTO:+0100
TZNAME:CET
END:STANDARD
BEGIN:DAYLIGHT
DTSTART:20260329T010000
TZOFFSETFROM:+0100
TZOFFSETTO:+0200
TZNAME:CEST
END:DAYLIGHT
BEGIN:STANDARD
DTSTART:20261025T010000
TZOFFSETFROM:+0200
TZOFFSETTO:+0100
TZNAME:CET
END:STANDARD
END:VTIMEZONE
BEGIN:VEVENT
UID:22986-events@doshermanas.net
DTSTART;TZID=Europe/Madrid:20230924T100000
DTEND;TZID=Europe/Madrid:20230924T120000
DTSTAMP;TZID=Europe/Madrid:20230810T113313
SUMMARY:VIII Cross Laguna de Fuente del Rey
DESCRIPTION:La Carrera se celebrarÃ¡ el domingo 24 de septiembre de 2023\,Â
   a las 10:00 h.\, con una distancia de 10 Km.\, por asfalto y tierra. La 
 salida y meta estarÃ¡n situadas en la Laguna de Fuente del Rey. Inscripcio
 nes prÃ³ximamente.
URL:https://doshermanas.net/actividades/viii-cross-laguna-de-fuente-del-rey
 /
ORGANIZER;CN=DelegaciÃ³n de Deportes:MAILTO:deportes@doshermanas.es
LOCATION:La Laguna de Fuente del Rey
END:VEVENT
END:VCALENDAR