BEGIN:VCALENDAR
VERSION:2.0
PRODID:-//RIGHTHERE//CALENDARIZE IT V3.2//EN
BEGIN:VTIMEZONE
TZID:Europe/Madrid
BEGIN:STANDARD
DTSTART:20251026T010000
TZOFFSETFROM:+0200
TZOFFSETTO:+0100
TZNAME:CET
END:STANDARD
BEGIN:DAYLIGHT
DTSTART:20260329T010000
TZOFFSETFROM:+0100
TZOFFSETTO:+0200
TZNAME:CEST
END:DAYLIGHT
BEGIN:STANDARD
DTSTART:20261025T010000
TZOFFSETFROM:+0200
TZOFFSETTO:+0100
TZNAME:CET
END:STANDARD
END:VTIMEZONE
BEGIN:VEVENT
UID:23753-events@doshermanas.net
DTSTART;VALUE=DATE:20231219
DTEND;VALUE=DATE:20231223
DTSTAMP;TZID=Europe/Madrid:20231219T185805
SUMMARY:Deporte solidario ¡Por un Juguete!
DESCRIPTION:Karate: martes 19 de dic. Padel: miércoles 20 y jueves 21 dic
 . Fútbol solidario: jueves 21 de dic. Waterpolo: viernes 22 de dic. Tenis
 : viernes 22 de dic. Balonmano: viernes 22 de dic. Gimnasia rítmica: vier
 nes 22 de dic. Fútbol sala: viernes 22 de dic.
URL:https://doshermanas.net/actividades/deporte-solidario-por-un-juguete-20
 23/
ORGANIZER;CN=Delegación de Deportes:MAILTO:deportes@doshermanas.es
END:VEVENT
END:VCALENDAR