BEGIN:VCALENDAR
VERSION:2.0
PRODID:-//RIGHTHERE//CALENDARIZE IT V3.2//EN
BEGIN:VTIMEZONE
TZID:Europe/Madrid
BEGIN:STANDARD
DTSTART:20251026T010000
TZOFFSETFROM:+0200
TZOFFSETTO:+0100
TZNAME:CET
END:STANDARD
BEGIN:DAYLIGHT
DTSTART:20260329T010000
TZOFFSETFROM:+0100
TZOFFSETTO:+0200
TZNAME:CEST
END:DAYLIGHT
BEGIN:STANDARD
DTSTART:20261025T010000
TZOFFSETFROM:+0200
TZOFFSETTO:+0100
TZNAME:CET
END:STANDARD
END:VTIMEZONE
BEGIN:VEVENT
UID:24186-events@doshermanas.net
DTSTART;TZID=Europe/Madrid:20240425T163000
DTEND;TZID=Europe/Madrid:20240425T210000
DTSTAMP;TZID=Europe/Madrid:20240401T111710
SUMMARY:43ª Carrera Escolar Dos Hermanas
DESCRIPTION:Jueves 25 de Abril de 2024 en el Estadio Municipal ^'Manuel Utr
 illa^'. Pista Atletismo Antonio Guzmán de a partir de las 16:30 h. Organi
 za la Delegación de Deportes del Ayuntamiento de Dos Hermanas. Colabora C
 lub Atletismo Orippo.
URL:https://doshermanas.net/actividades/43a-carrera-escolar-dos-hermanas/
ORGANIZER;CN=Delegación de Deportes:MAILTO:deportes@doshermanas.es
LOCATION:Estadio Municipal ^'Manuel Utrilla^'
END:VEVENT
END:VCALENDAR