BEGIN:VCALENDAR
VERSION:2.0
PRODID:-//RIGHTHERE//CALENDARIZE IT V3.2//EN
BEGIN:VTIMEZONE
TZID:Europe/Madrid
BEGIN:STANDARD
DTSTART:20251026T010000
TZOFFSETFROM:+0200
TZOFFSETTO:+0100
TZNAME:CET
END:STANDARD
BEGIN:DAYLIGHT
DTSTART:20260329T010000
TZOFFSETFROM:+0100
TZOFFSETTO:+0200
TZNAME:CEST
END:DAYLIGHT
BEGIN:STANDARD
DTSTART:20261025T010000
TZOFFSETFROM:+0200
TZOFFSETTO:+0100
TZNAME:CET
END:STANDARD
END:VTIMEZONE
BEGIN:VEVENT
UID:27682-events@doshermanas.net
DTSTART;TZID=Europe/Madrid:20260321T100000
DTEND;TZID=Europe/Madrid:20260321T130000
DTSTAMP;TZID=Europe/Madrid:20260305T143159
SUMMARY:VIII Ruta senderismo en familia
DESCRIPTION:21 de marzo en el Parque Dehesa Doña María. Recepción de par
 ticipantes de 10:00 a 10:30 h y ruta hasta las 12:30 h. Actividad gratuita
 con dos recorridos adaptados para todos los públicos. Inscríbete ¡Plaza
 s limitadas!
URL:https://doshermanas.net/actividades/viii-ruta-senderismo-en-familia/
ORGANIZER;CN=Delegación de Deportes:MAILTO:deportes@doshermanas.es
LOCATION:Parque Forestal Dehesa de Doña María
END:VEVENT
END:VCALENDAR