BEGIN:VCALENDAR
VERSION:2.0
PRODID:-//RIGHTHERE//CALENDARIZE IT V3.2//EN
BEGIN:VTIMEZONE
TZID:Europe/Madrid
BEGIN:STANDARD
DTSTART:20251026T010000
TZOFFSETFROM:+0200
TZOFFSETTO:+0100
TZNAME:CET
END:STANDARD
BEGIN:DAYLIGHT
DTSTART:20260329T010000
TZOFFSETFROM:+0100
TZOFFSETTO:+0200
TZNAME:CEST
END:DAYLIGHT
BEGIN:STANDARD
DTSTART:20261025T010000
TZOFFSETFROM:+0200
TZOFFSETTO:+0100
TZNAME:CET
END:STANDARD
END:VTIMEZONE
BEGIN:VEVENT
UID:27998-events@doshermanas.net
DTSTART;TZID=Europe/Madrid:20260419T100000
DTEND;TZID=Europe/Madrid:20260419T130000
DTSTAMP;TZID=Europe/Madrid:20260408T114014
SUMMARY:Día de la Rueda «Fuente del Rey» 2026
DESCRIPTION:Actividad gratuita en Fuente del Rey: recepción 10:30\, paseo 
 en bici 11:00\, sorteo de 2 bicicletas a las 12:00. Casco obligatorio <16 
 años.
URL:https://doshermanas.net/actividades/dia-de-la-rueda-fuente-del-rey-2026
 /
ORGANIZER;CN=Delegación de Deportes:MAILTO:deportes@doshermanas.es
END:VEVENT
END:VCALENDAR