BEGIN:VCALENDAR
VERSION:2.0
PRODID:-//RIGHTHERE//CALENDARIZE IT V3.2//EN
BEGIN:VTIMEZONE
TZID:Europe/Madrid
BEGIN:STANDARD
DTSTART:20251026T010000
TZOFFSETFROM:+0200
TZOFFSETTO:+0100
TZNAME:CET
END:STANDARD
BEGIN:DAYLIGHT
DTSTART:20260329T010000
TZOFFSETFROM:+0100
TZOFFSETTO:+0200
TZNAME:CEST
END:DAYLIGHT
BEGIN:STANDARD
DTSTART:20261025T010000
TZOFFSETFROM:+0200
TZOFFSETTO:+0100
TZNAME:CET
END:STANDARD
END:VTIMEZONE
BEGIN:VEVENT
UID:28031-events@doshermanas.net
DTSTART;TZID=Europe/Madrid:20260530T090000
DTEND;TZID=Europe/Madrid:20260530T143000
DTSTAMP;TZID=Europe/Madrid:20260415T130805
SUMMARY:XXXVIII Torneo Internacional de Ajedrez “Ciudad de Dos Hermanas
 
DESCRIPTION:Torneo de ajedrez federado en Dos Hermanas el 30/05/2026: 8 ron
 das rápidas\, 120 plazas\, inscripción online hasta el 29/05 y 3.850€ 
 en premios.
URL:https://doshermanas.net/actividades/xxxviii-torneo-internacional-de-aje
 drez-ciudad-de-dos-hermanas/
ORGANIZER;CN=Delegación de Deportes:MAILTO:deportes@doshermanas.es
END:VEVENT
END:VCALENDAR