BEGIN:VCALENDAR
VERSION:2.0
PRODID:-//RIGHTHERE//CALENDARIZE IT V3.2//EN
BEGIN:VTIMEZONE
TZID:Europe/Madrid
BEGIN:STANDARD
DTSTART:20251026T010000
TZOFFSETFROM:+0200
TZOFFSETTO:+0100
TZNAME:CET
END:STANDARD
BEGIN:DAYLIGHT
DTSTART:20260329T010000
TZOFFSETFROM:+0100
TZOFFSETTO:+0200
TZNAME:CEST
END:DAYLIGHT
BEGIN:STANDARD
DTSTART:20261025T010000
TZOFFSETFROM:+0200
TZOFFSETTO:+0100
TZNAME:CET
END:STANDARD
END:VTIMEZONE
BEGIN:VEVENT
UID:9885-events@doshermanas.net
DTSTART;TZID=Europe/Madrid:20200201T100000
DTEND;TZID=Europe/Madrid:20200201T000000
DTSTAMP;TZID=Europe/Madrid:20200110T130821
SUMMARY:Liga de Pista Cadete y Junior  Dos Hermanas I
DESCRIPTION:La prueba tendrÃ¡ lugar el sÃ¡bado 1 de febrero de 2020 a las 1
 0:00 horas (recogida de dorsales a partir de 9:00 a 9:30 horas) en el VelÃ
 ³dromo Municipal de Dos Hermanas. En las categorÃ­as  Junior femenino\, Ju
 nior\, Cadete femenino y Cadete.
URL:https://doshermanas.net/actividades/liga-de-pista-cadete-y-junior-dos-h
 ermanas-i/
ORGANIZER;CN=FederaciÃ³n Andaluza de Ciclismo:MAILTO:fac@andaluciaciclismo.
 com
LOCATION:Calle MeÃ±aca\, s/n
END:VEVENT
END:VCALENDAR